{"text_format":"3","workbook":"xlsx","n_sheets":4,"sheets":["专职辅导员1","专职辅导员2","党务及思政人员1","党务及思政人员2"],"not_rendered":{"external_links":1,"defined_names":5},"read":"whole","date_system":"1900"}

{"sheet":"专职辅导员1","index":0,"n_rows":26,"n_cols":7,"rows_kept":26,"merged":[[0,0,0,6]]}
["贵州师范大学2024年公开招聘工作人员专职辅导员1岗位总成绩"]
["序号","姓名","报考岗位","岗位代码","准考证号","总成绩","是否进入\n体检环节"]
[1,"陆泓辰","专职辅导员1",22828440101,"1152281108102",{"$f":"VLOOKUP(B3,[1]专职辅导员1!$B:$I,8,FALSE)","v":77.96},{"$f":"VLOOKUP(B3,[1]专职辅导员1!$B:$J,9,FALSE)","v":"是"}]
[2,"梁佳茵","专职辅导员1",22828440101,"1152281109522",{"$f":"VLOOKUP(B4,[1]专职辅导员1!$B:$I,8,FALSE)","v":{"v":76.924,"d":"76.92"}},{"$f":"VLOOKUP(B4,[1]专职辅导员1!$B:$J,9,FALSE)","v":"是"}]
[3,"王维胜","专职辅导员1",22828440101,"1152281110405",{"$f":"VLOOKUP(B5,[1]专职辅导员1!$B:$I,8,FALSE)","v":{"v":79.132,"d":"79.13"}},{"$f":"VLOOKUP(B5,[1]专职辅导员1!$B:$J,9,FALSE)","v":"是"}]
[4,"梁家敏","专职辅导员1",22828440101,"1152281108313",{"$f":"VLOOKUP(B6,[1]专职辅导员1!$B:$I,8,FALSE)","v":{"v":77.992,"d":"77.99"}},{"$f":"VLOOKUP(B6,[1]专职辅导员1!$B:$J,9,FALSE)","v":"是"}]
[5,"张玲娜","专职辅导员1",22828440101,"1152281109503",{"$f":"VLOOKUP(B7,[1]专职辅导员1!$B:$I,8,FALSE)","v":{"v":72.852,"d":"72.85"}},{"$f":"VLOOKUP(B7,[1]专职辅导员1!$B:$J,9,FALSE)","v":"否"}]
[6,"赵燕绮","专职辅导员1",22828440101,"1152281113127",{"$f":"VLOOKUP(B8,[1]专职辅导员1!$B:$I,8,FALSE)","v":{"v":76.372,"d":"76.37"}},{"$f":"VLOOKUP(B8,[1]专职辅导员1!$B:$J,9,FALSE)","v":"是"}]
[7,"孙瑜霞","专职辅导员1",22828440101,"1152281113406",{"$f":"VLOOKUP(B9,[1]专职辅导员1!$B:$I,8,FALSE)","v":{"v":70.6,"d":"70.60"}},{"$f":"VLOOKUP(B9,[1]专职辅导员1!$B:$J,9,FALSE)","v":"否"}]
[8,"胡莲宇","专职辅导员1",22828440101,"1152281107316",{"$f":"VLOOKUP(B10,[1]专职辅导员1!$B:$I,8,FALSE)","v":{"v":76.948,"d":"76.95"}},{"$f":"VLOOKUP(B10,[1]专职辅导员1!$B:$J,9,FALSE)","v":"是"}]
[9,"谢林易","专职辅导员1",22828440101,"1152281110112",{"$f":"VLOOKUP(B11,[1]专职辅导员1!$B:$I,8,FALSE)","v":74.96},{"$f":"VLOOKUP(B11,[1]专职辅导员1!$B:$J,9,FALSE)","v":"否"}]
[10,"胡懿园","专职辅导员1",22828440101,"1152281107413",{"$f":"VLOOKUP(B12,[1]专职辅导员1!$B:$I,8,FALSE)","v":{"v":76.972,"d":"76.97"}},{"$f":"VLOOKUP(B12,[1]专职辅导员1!$B:$J,9,FALSE)","v":"是"}]
[11,"王正敏","专职辅导员1",22828440101,"1152281105923",{"$f":"VLOOKUP(B13,[1]专职辅导员1!$B:$I,8,FALSE)","v":{"v":72.768,"d":"72.77"}},{"$f":"VLOOKUP(B13,[1]专职辅导员1!$B:$J,9,FALSE)","v":"否"}]
[12,"吕宝馨","专职辅导员1",22828440101,"1152281106102",{"$f":"VLOOKUP(B14,[1]专职辅导员1!$B:$I,8,FALSE)","v":75.86},{"$f":"VLOOKUP(B14,[1]专职辅导员1!$B:$J,9,FALSE)","v":"是"}]
[13,"李玉婷","专职辅导员1",22828440101,"1152281110515","面试缺考",{"$f":"VLOOKUP(B15,[1]专职辅导员1!$B:$J,9,FALSE)","v":"否"}]
[14,"陆骁","专职辅导员1",22828440101,"1152281108227",{"$f":"VLOOKUP(B16,[1]专职辅导员1!$B:$I,8,FALSE)","v":{"v":70.612,"d":"70.61"}},{"$f":"VLOOKUP(B16,[1]专职辅导员1!$B:$J,9,FALSE)","v":"否"}]
[15,"唐芳林","专职辅导员1",22828440101,"1152281111820",{"$f":"VLOOKUP(B17,[1]专职辅导员1!$B:$I,8,FALSE)","v":75.52},{"$f":"VLOOKUP(B17,[1]专职辅导员1!$B:$J,9,FALSE)","v":"否"}]
[16,"杨正杰","专职辅导员1",22828440101,"1152281107602",{"$f":"VLOOKUP(B18,[1]专职辅导员1!$B:$I,8,FALSE)","v":{"v":75.692,"d":"75.69"}},{"$f":"VLOOKUP(B18,[1]专职辅导员1!$B:$J,9,FALSE)","v":"否"}]
[17,"杨羚","专职辅导员1",22828440101,"1152281110004","面试缺考",{"$f":"VLOOKUP(B19,[1]专职辅导员1!$B:$J,9,FALSE)","v":"否"}]
[18,"张兴红","专职辅导员1",22828440101,"1152281106712",{"$f":"VLOOKUP(B20,[1]专职辅导员1!$B:$I,8,FALSE)","v":{"v":73.508,"d":"73.51"}},{"$f":"VLOOKUP(B20,[1]专职辅导员1!$B:$J,9,FALSE)","v":"否"}]
[19,"滕思佳","专职辅导员1",22828440101,"1152281109218",{"$f":"VLOOKUP(B21,[1]专职辅导员1!$B:$I,8,FALSE)","v":{"v":75.228,"d":"75.23"}},{"$f":"VLOOKUP(B21,[1]专职辅导员1!$B:$J,9,FALSE)","v":"否"}]
[20,"陈洪梅","专职辅导员1",22828440101,"1152281110807",{"$f":"VLOOKUP(B22,[1]专职辅导员1!$B:$I,8,FALSE)","v":{"v":73.268,"d":"73.27"}},{"$f":"VLOOKUP(B22,[1]专职辅导员1!$B:$J,9,FALSE)","v":"否"}]
[21,"党小惠","专职辅导员1",22828440101,"1152281112807",{"$f":"VLOOKUP(B23,[1]专职辅导员1!$B:$I,8,FALSE)","v":{"v":72.632,"d":"72.63"}},{"$f":"VLOOKUP(B23,[1]专职辅导员1!$B:$J,9,FALSE)","v":"否"}]
[22,"郜永琴","专职辅导员1",22828440101,"1152281108818",{"$f":"VLOOKUP(B24,[1]专职辅导员1!$B:$I,8,FALSE)","v":{"v":70.616,"d":"70.62"}},{"$f":"VLOOKUP(B24,[1]专职辅导员1!$B:$J,9,FALSE)","v":"否"}]
[23,"陆方筱","专职辅导员1",22828440101,"1152281111625",{"$f":"VLOOKUP(B25,[1]专职辅导员1!$B:$I,8,FALSE)","v":{"v":68.052,"d":"68.05"}},{"$f":"VLOOKUP(B25,[1]专职辅导员1!$B:$J,9,FALSE)","v":"否"}]
[24,"蒋正婷","专职辅导员1",22828440101,"1152281111607",{"$f":"VLOOKUP(B26,[1]专职辅导员1!$B:$I,8,FALSE)","v":{"v":70.688,"d":"70.69"}},{"$f":"VLOOKUP(B26,[1]专职辅导员1!$B:$J,9,FALSE)","v":"否"}]

{"sheet":"专职辅导员2","index":1,"n_rows":65,"n_cols":7,"rows_kept":65,"merged":[[0,0,0,6]]}
["贵州师范大学2024年公开招聘工作人员专职辅导员2岗位总成绩"]
["序号","姓名","报考岗位","岗位代码","准考证号","总成绩","是否进入\n体检环节"]
[1,"夏瑛奇","专职辅导员2",22828440102,"1152281108403",{"$f":"VLOOKUP(B3,[1]专职辅导员2!$B:$I,8,FALSE)","v":73.28},{"$f":"VLOOKUP(B3,[1]专职辅导员2!$B:$J,9,FALSE)","v":"是"}]
[2,"简单","专职辅导员2",22828440102,"1152281106408",{"$f":"VLOOKUP(B4,[1]专职辅导员2!$B:$I,8,FALSE)","v":{"v":74.248,"d":"74.25"}},{"$f":"VLOOKUP(B4,[1]专职辅导员2!$B:$J,9,FALSE)","v":"是"}]
[3,"李更菲","专职辅导员2",22828440102,"1152281113216",{"$f":"VLOOKUP(B5,[1]专职辅导员2!$B:$I,8,FALSE)","v":{"v":75.092,"d":"75.09"}},{"$f":"VLOOKUP(B5,[1]专职辅导员2!$B:$J,9,FALSE)","v":"是"}]
[4,"冯燕","专职辅导员2",22828440102,"1152281106311",{"$f":"VLOOKUP(B6,[1]专职辅导员2!$B:$I,8,FALSE)","v":{"v":73.388,"d":"73.39"}},{"$f":"VLOOKUP(B6,[1]专职辅导员2!$B:$J,9,FALSE)","v":"是"}]
[5,"周丽玲","专职辅导员2",22828440102,"1152281111603",{"$f":"VLOOKUP(B7,[1]专职辅导员2!$B:$I,8,FALSE)","v":76.18},{"$f":"VLOOKUP(B7,[1]专职辅导员2!$B:$J,9,FALSE)","v":"是"}]
[6,"何敏","专职辅导员2",22828440102,"1152281114001",{"$f":"VLOOKUP(B8,[1]专职辅导员2!$B:$I,8,FALSE)","v":73.06},{"$f":"VLOOKUP(B8,[1]专职辅导员2!$B:$J,9,FALSE)","v":"否"}]
[7,"张翔","专职辅导员2",22828440102,"1152281109601",{"$f":"VLOOKUP(B9,[1]专职辅导员2!$B:$I,8,FALSE)","v":{"v":78.932,"d":"78.93"}},{"$f":"VLOOKUP(B9,[1]专职辅导员2!$B:$J,9,FALSE)","v":"是"}]
[8,"石丹妮","专职辅导员2",22828440102,"1152281113408",{"$f":"VLOOKUP(B10,[1]专职辅导员2!$B:$I,8,FALSE)","v":78.72},{"$f":"VLOOKUP(B10,[1]专职辅导员2!$B:$J,9,FALSE)","v":"是"}]
[9,"王兴玥","专职辅导员2",22828440102,"1152281110411",{"$f":"VLOOKUP(B11,[1]专职辅导员2!$B:$I,8,FALSE)","v":{"v":73.068,"d":"73.07"}},{"$f":"VLOOKUP(B11,[1]专职辅导员2!$B:$J,9,FALSE)","v":"否"}]
[10,"张译心","专职辅导员2",22828440102,"1152281105727",{"$f":"VLOOKUP(B12,[1]专职辅导员2!$B:$I,8,FALSE)","v":{"v":75.7,"d":"75.70"}},{"$f":"VLOOKUP(B12,[1]专职辅导员2!$B:$J,9,FALSE)","v":"是"}]
[11,"张蝶","专职辅导员2",22828440102,"1152281112223",{"$f":"VLOOKUP(B13,[1]专职辅导员2!$B:$I,8,FALSE)","v":70.36},{"$f":"VLOOKUP(B13,[1]专职辅导员2!$B:$J,9,FALSE)","v":"否"}]
[12,"卫潇","专职辅导员2",22828440102,"1152281113303",{"$f":"VLOOKUP(B14,[1]专职辅导员2!$B:$I,8,FALSE)","v":{"v":72.632,"d":"72.63"}},{"$f":"VLOOKUP(B14,[1]专职辅导员2!$B:$J,9,FALSE)","v":"否"}]
[13,"马晴","专职辅导员2",22828440102,"1152281108621",{"$f":"VLOOKUP(B15,[1]专职辅导员2!$B:$I,8,FALSE)","v":{"v":71.232,"d":"71.23"}},{"$f":"VLOOKUP(B15,[1]专职辅导员2!$B:$J,9,FALSE)","v":"否"}]
[14,"田鋆","专职辅导员2",22828440102,"1152281110204",{"$f":"VLOOKUP(B16,[1]专职辅导员2!$B:$I,8,FALSE)","v":{"v":71.412,"d":"71.41"}},{"$f":"VLOOKUP(B16,[1]专职辅导员2!$B:$J,9,FALSE)","v":"否"}]
[15,"张欣悦","专职辅导员2",22828440102,"1152281109022",{"$f":"VLOOKUP(B17,[1]专职辅导员2!$B:$I,8,FALSE)","v":{"v":72.732,"d":"72.73"}},{"$f":"VLOOKUP(B17,[1]专职辅导员2!$B:$J,9,FALSE)","v":"否"}]
[16,"廖绍栩","专职辅导员2",22828440102,"1152281107513",{"$f":"VLOOKUP(B18,[1]专职辅导员2!$B:$I,8,FALSE)","v":{"v":78.668,"d":"78.67"}},{"$f":"VLOOKUP(B18,[1]专职辅导员2!$B:$J,9,FALSE)","v":"是"}]
[17,"杨顺佳","专职辅导员2",22828440102,"1152281109511",{"$f":"VLOOKUP(B19,[1]专职辅导员2!$B:$I,8,FALSE)","v":73.92},{"$f":"VLOOKUP(B19,[1]专职辅导员2!$B:$J,9,FALSE)","v":"是"}]
[18,"王发云","专职辅导员2",22828440102,"1152281106224","面试缺考",{"$f":"VLOOKUP(B20,[1]专职辅导员2!$B:$J,9,FALSE)","v":"否"}]
[19,"马肖远","专职辅导员2",22828440102,"1152281110301",{"$f":"VLOOKUP(B21,[1]专职辅导员2!$B:$I,8,FALSE)","v":{"v":73.128,"d":"73.13"}},{"$f":"VLOOKUP(B21,[1]专职辅导员2!$B:$J,9,FALSE)","v":"是"}]
[20,"董小方","专职辅导员2",22828440102,"1152281113320","面试缺考",{"$f":"VLOOKUP(B22,[1]专职辅导员2!$B:$J,9,FALSE)","v":"否"}]
[21,"成美君","专职辅导员2",22828440102,"1152281112524",{"$f":"VLOOKUP(B23,[1]专职辅导员2!$B:$I,8,FALSE)","v":{"v":72.572,"d":"72.57"}},{"$f":"VLOOKUP(B23,[1]专职辅导员2!$B:$J,9,FALSE)","v":"否"}]
[22,"何相亿","专职辅导员2",22828440102,"1152281112305",{"$f":"VLOOKUP(B24,[1]专职辅导员2!$B:$I,8,FALSE)","v":{"v":72.388,"d":"72.39"}},{"$f":"VLOOKUP(B24,[1]专职辅导员2!$B:$J,9,FALSE)","v":"否"}]
[23,"刘乾义","专职辅导员2",22828440102,"1152281112615",{"$f":"VLOOKUP(B25,[1]专职辅导员2!$B:$I,8,FALSE)","v":{"v":76.268,"d":"76.27"}},{"$f":"VLOOKUP(B25,[1]专职辅导员2!$B:$J,9,FALSE)","v":"是"}]
[24,"蒋潇檬","专职辅导员2",22828440102,"1152281113022","面试缺考",{"$f":"VLOOKUP(B26,[1]专职辅导员2!$B:$J,9,FALSE)","v":"否"}]
[25,"韦育绒","专职辅导员2",22828440102,"1152281110607",{"$f":"VLOOKUP(B27,[1]专职辅导员2!$B:$I,8,FALSE)","v":69.36},{"$f":"VLOOKUP(B27,[1]专职辅导员2!$B:$J,9,FALSE)","v":"否"}]
[26,"谭娅","专职辅导员2",22828440102,"1152281113008",{"$f":"VLOOKUP(B28,[1]专职辅导员2!$B:$I,8,FALSE)","v":{"v":70.792,"d":"70.79"}},{"$f":"VLOOKUP(B28,[1]专职辅导员2!$B:$J,9,FALSE)","v":"否"}]
[27,"何紫晶","专职辅导员2",22828440102,"1152281106923",{"$f":"VLOOKUP(B29,[1]专职辅导员2!$B:$I,8,FALSE)","v":{"v":77.692,"d":"77.69"}},{"$f":"VLOOKUP(B29,[1]专职辅导员2!$B:$J,9,FALSE)","v":"是"}]
[28,"徐昭通","专职辅导员2",22828440102,"1152281111309",{"$f":"VLOOKUP(B30,[1]专职辅导员2!$B:$I,8,FALSE)","v":{"v":76.852,"d":"76.85"}},{"$f":"VLOOKUP(B30,[1]专职辅导员2!$B:$J,9,FALSE)","v":"是"}]
[29,"彭昱竹","专职辅导员2",22828440102,"1152281111703",{"$f":"VLOOKUP(B31,[1]专职辅导员2!$B:$I,8,FALSE)","v":{"v":72.168,"d":"72.17"}},{"$f":"VLOOKUP(B31,[1]专职辅导员2!$B:$J,9,FALSE)","v":"否"}]
[30,"姚娟","专职辅导员2",22828440102,"1152281109909",{"$f":"VLOOKUP(B32,[1]专职辅导员2!$B:$I,8,FALSE)","v":{"v":74.868,"d":"74.87"}},{"$f":"VLOOKUP(B32,[1]专职辅导员2!$B:$J,9,FALSE)","v":"是"}]
[31,"郑菊","专职辅导员2",22828440102,"1152281107120",{"$f":"VLOOKUP(B33,[1]专职辅导员2!$B:$I,8,FALSE)","v":{"v":70.788,"d":"70.79"}},{"$f":"VLOOKUP(B33,[1]专职辅导员2!$B:$J,9,FALSE)","v":"否"}]
[32,"刘子瑜","专职辅导员2",22828440102,"1152281112502",{"$f":"VLOOKUP(B34,[1]专职辅导员2!$B:$I,8,FALSE)","v":{"v":73.948,"d":"73.95"}},{"$f":"VLOOKUP(B34,[1]专职辅导员2!$B:$J,9,FALSE)","v":"是"}]
[33,"胡婷婷","专职辅导员2",22828440102,"1152281109106",{"$f":"VLOOKUP(B35,[1]专职辅导员2!$B:$I,8,FALSE)","v":{"v":72.328,"d":"72.33"}},{"$f":"VLOOKUP(B35,[1]专职辅导员2!$B:$J,9,FALSE)","v":"否"}]
[34,"蔡胜","专职辅导员2",22828440102,"1152281113906","面试缺考",{"$f":"VLOOKUP(B36,[1]专职辅导员2!$B:$J,9,FALSE)","v":"否"}]
[35,"陈跃芳","专职辅导员2",22828440102,"1152281107809",{"$f":"VLOOKUP(B37,[1]专职辅导员2!$B:$I,8,FALSE)","v":71.96},{"$f":"VLOOKUP(B37,[1]专职辅导员2!$B:$J,9,FALSE)","v":"否"}]
[36,"何睿","专职辅导员2",22828440102,"1152281113023",{"$f":"VLOOKUP(B38,[1]专职辅导员2!$B:$I,8,FALSE)","v":69.92},{"$f":"VLOOKUP(B38,[1]专职辅导员2!$B:$J,9,FALSE)","v":"否"}]
[37,"郑佳薇","专职辅导员2",22828440102,"1152281113518",{"$f":"VLOOKUP(B39,[1]专职辅导员2!$B:$I,8,FALSE)","v":69.08},{"$f":"VLOOKUP(B39,[1]专职辅导员2!$B:$J,9,FALSE)","v":"否"}]
[38,"安旭","专职辅导员2",22828440102,"1152281111622",{"$f":"VLOOKUP(B40,[1]专职辅导员2!$B:$I,8,FALSE)","v":{"v":75.492,"d":"75.49"}},{"$f":"VLOOKUP(B40,[1]专职辅导员2!$B:$J,9,FALSE)","v":"是"}]
[39,"陈颖","专职辅导员2",22828440102,"1152281113105",{"$f":"VLOOKUP(B41,[1]专职辅导员2!$B:$I,8,FALSE)","v":{"v":67.932,"d":"67.93"}},{"$f":"VLOOKUP(B41,[1]专职辅导员2!$B:$J,9,FALSE)","v":"否"}]
[40,"王姣","专职辅导员2",22828440102,"1152281109116",{"$f":"VLOOKUP(B42,[1]专职辅导员2!$B:$I,8,FALSE)","v":{"v":72.492,"d":"72.49"}},{"$f":"VLOOKUP(B42,[1]专职辅导员2!$B:$J,9,FALSE)","v":"否"}]
[41,"王雪","专职辅导员2",22828440102,"1152281109926",{"$f":"VLOOKUP(B43,[1]专职辅导员2!$B:$I,8,FALSE)","v":{"v":67.508,"d":"67.51"}},{"$f":"VLOOKUP(B43,[1]专职辅导员2!$B:$J,9,FALSE)","v":"否"}]
[42,"王琴","专职辅导员2",22828440102,"1152281107519",{"$f":"VLOOKUP(B44,[1]专职辅导员2!$B:$I,8,FALSE)","v":{"v":69.188,"d":"69.19"}},{"$f":"VLOOKUP(B44,[1]专职辅导员2!$B:$J,9,FALSE)","v":"否"}]
[43,"李丹","专职辅导员2",22828440102,"1152281113124",{"$f":"VLOOKUP(B45,[1]专职辅导员2!$B:$I,8,FALSE)","v":77.34},{"$f":"VLOOKUP(B45,[1]专职辅导员2!$B:$J,9,FALSE)","v":"是"}]
[44,"谢莎莎","专职辅导员2",22828440102,"1152281108301",{"$f":"VLOOKUP(B46,[1]专职辅导员2!$B:$I,8,FALSE)","v":69.66},{"$f":"VLOOKUP(B46,[1]专职辅导员2!$B:$J,9,FALSE)","v":"否"}]
[45,"孔威","专职辅导员2",22828440102,"1152281110315",{"$f":"VLOOKUP(B47,[1]专职辅导员2!$B:$I,8,FALSE)","v":{"v":68.932,"d":"68.93"}},{"$f":"VLOOKUP(B47,[1]专职辅导员2!$B:$J,9,FALSE)","v":"否"}]
[46,"李慧","专职辅导员2",22828440102,"1152281110007",{"$f":"VLOOKUP(B48,[1]专职辅导员2!$B:$I,8,FALSE)","v":{"v":70.012,"d":"70.01"}},{"$f":"VLOOKUP(B48,[1]专职辅导员2!$B:$J,9,FALSE)","v":"否"}]
[47,"闵莉媛","专职辅导员2",22828440102,"1152281106003",{"$f":"VLOOKUP(B49,[1]专职辅导员2!$B:$I,8,FALSE)","v":{"v":71.212,"d":"71.21"}},{"$f":"VLOOKUP(B49,[1]专职辅导员2!$B:$J,9,FALSE)","v":"否"}]
[48,"岳红玉","专职辅导员2",22828440102,"1152281111017",{"$f":"VLOOKUP(B50,[1]专职辅导员2!$B:$I,8,FALSE)","v":{"v":69.168,"d":"69.17"}},{"$f":"VLOOKUP(B50,[1]专职辅导员2!$B:$J,9,FALSE)","v":"否"}]
[49,"刘珊","专职辅导员2",22828440102,"1152281112710",{"$f":"VLOOKUP(B51,[1]专职辅导员2!$B:$I,8,FALSE)","v":{"v":69.768,"d":"69.77"}},{"$f":"VLOOKUP(B51,[1]专职辅导员2!$B:$J,9,FALSE)","v":"否"}]
[50,"梁琴","专职辅导员2",22828440102,"1152281113013",{"$f":"VLOOKUP(B52,[1]专职辅导员2!$B:$I,8,FALSE)","v":{"v":67.908,"d":"67.91"}},{"$f":"VLOOKUP(B52,[1]专职辅导员2!$B:$J,9,FALSE)","v":"否"}]
[51,"吴徐皝","专职辅导员2",22828440102,"1152281108220",{"$f":"VLOOKUP(B53,[1]专职辅导员2!$B:$I,8,FALSE)","v":77.98},{"$f":"VLOOKUP(B53,[1]专职辅导员2!$B:$J,9,FALSE)","v":"是"}]
[52,"刘建明","专职辅导员2",22828440102,"1152281106617",{"$f":"VLOOKUP(B54,[1]专职辅导员2!$B:$I,8,FALSE)","v":70.12},{"$f":"VLOOKUP(B54,[1]专职辅导员2!$B:$J,9,FALSE)","v":"否"}]
[53,"李塽爽","专职辅导员2",22828440102,"1152281107804",{"$f":"VLOOKUP(B55,[1]专职辅导员2!$B:$I,8,FALSE)","v":{"v":69.7,"d":"69.70"}},{"$f":"VLOOKUP(B55,[1]专职辅导员2!$B:$J,9,FALSE)","v":"否"}]
[54,"吴小丽","专职辅导员2",22828440102,"1152281106704",{"$f":"VLOOKUP(B56,[1]专职辅导员2!$B:$I,8,FALSE)","v":{"v":70.288,"d":"70.29"}},{"$f":"VLOOKUP(B56,[1]专职辅导员2!$B:$J,9,FALSE)","v":"否"}]
[55,"龙瑜","专职辅导员2",22828440102,"1152281112421",{"$f":"VLOOKUP(B57,[1]专职辅导员2!$B:$I,8,FALSE)","v":{"v":67.588,"d":"67.59"}},{"$f":"VLOOKUP(B57,[1]专职辅导员2!$B:$J,9,FALSE)","v":"否"}]
[56,"马斯怡","专职辅导员2",22828440102,"1152281110416",{"$f":"VLOOKUP(B58,[1]专职辅导员2!$B:$I,8,FALSE)","v":{"v":65.788,"d":"65.79"}},{"$f":"VLOOKUP(B58,[1]专职辅导员2!$B:$J,9,FALSE)","v":"否"}]
[57,"李荣莲","专职辅导员2",22828440102,"1152281110307",{"$f":"VLOOKUP(B59,[1]专职辅导员2!$B:$I,8,FALSE)","v":68.24},{"$f":"VLOOKUP(B59,[1]专职辅导员2!$B:$J,9,FALSE)","v":"否"}]
[58,"王迎迎","专职辅导员2",22828440102,"1152281111729",{"$f":"VLOOKUP(B60,[1]专职辅导员2!$B:$I,8,FALSE)","v":{"v":76.1,"d":"76.10"}},{"$f":"VLOOKUP(B60,[1]专职辅导员2!$B:$J,9,FALSE)","v":"是"}]
[59,"邱婷","专职辅导员2",22828440102,"1152281112826",{"$f":"VLOOKUP(B61,[1]专职辅导员2!$B:$I,8,FALSE)","v":{"v":69.492,"d":"69.49"}},{"$f":"VLOOKUP(B61,[1]专职辅导员2!$B:$J,9,FALSE)","v":"否"}]
[60,"熊丽莎","专职辅导员2",22828440102,"1152281113621",{"$f":"VLOOKUP(B62,[1]专职辅导员2!$B:$I,8,FALSE)","v":{"v":70.812,"d":"70.81"}},{"$f":"VLOOKUP(B62,[1]专职辅导员2!$B:$J,9,FALSE)","v":"否"}]
[61,"张佳佳","专职辅导员2",22828440102,"1152281106901",{"$f":"VLOOKUP(B63,[1]专职辅导员2!$B:$I,8,FALSE)","v":{"v":66.732,"d":"66.73"}},{"$f":"VLOOKUP(B63,[1]专职辅导员2!$B:$J,9,FALSE)","v":"否"}]
[62,"罗裔","专职辅导员2",22828440102,"1152281108613",{"$f":"VLOOKUP(B64,[1]专职辅导员2!$B:$I,8,FALSE)","v":{"v":74.228,"d":"74.23"}},{"$f":"VLOOKUP(B64,[1]专职辅导员2!$B:$J,9,FALSE)","v":"是"}]
[63,"唐油","专职辅导员2",22828440102,"1152281105622",{"$f":"VLOOKUP(B65,[1]专职辅导员2!$B:$I,8,FALSE)","v":{"v":66.788,"d":"66.79"}},{"$f":"VLOOKUP(B65,[1]专职辅导员2!$B:$J,9,FALSE)","v":"否"}]

{"sheet":"党务及思政人员1","index":2,"n_rows":8,"n_cols":7,"rows_kept":8,"merged":[[0,0,0,6]]}
["贵州师范大学2024年公开招聘工作人员党务及思政人员1岗位总成绩"]
["序号","姓名","报考岗位","岗位代码","准考证号","总成绩","是否进入\n体检环节"]
[1,"袁云坚","党务及思政人员1",22828440103,"1152281108325",{"$f":"VLOOKUP(B3,[1]党务及思政人员1!$B:$I,8,FALSE)","v":76.22},{"$f":"VLOOKUP(B3,[1]党务及思政人员1!$B:$J,9,FALSE)","v":"是"}]
[2,"童洁","党务及思政人员1",22828440103,"1152281111807","面试缺考",{"$f":"VLOOKUP(B4,[1]党务及思政人员1!$B:$J,9,FALSE)","v":"否"}]
[3,"赵倩","党务及思政人员1",22828440103,"1152281304220",{"$f":"VLOOKUP(B5,[1]党务及思政人员1!$B:$I,8,FALSE)","v":75.36},{"$f":"VLOOKUP(B5,[1]党务及思政人员1!$B:$J,9,FALSE)","v":"是"}]
[4,"何易","党务及思政人员1",22828440103,"1152281107906",{"$f":"VLOOKUP(B6,[1]党务及思政人员1!$B:$I,8,FALSE)","v":73.58},{"$f":"VLOOKUP(B6,[1]党务及思政人员1!$B:$J,9,FALSE)","v":"否"}]
[5,"晏印雪","党务及思政人员1",22828440103,"1152281108526",{"$f":"VLOOKUP(B7,[1]党务及思政人员1!$B:$I,8,FALSE)","v":{"v":75.248,"d":"75.25"}},{"$f":"VLOOKUP(B7,[1]党务及思政人员1!$B:$J,9,FALSE)","v":"否"}]
[6,"费丽珊","党务及思政人员1",22828440103,"1152281110419",{"$f":"VLOOKUP(B8,[1]党务及思政人员1!$B:$I,8,FALSE)","v":{"v":73.508,"d":"73.51"}},{"$f":"VLOOKUP(B8,[1]党务及思政人员1!$B:$J,9,FALSE)","v":"否"}]

{"sheet":"党务及思政人员2","index":3,"n_rows":20,"n_cols":7,"rows_kept":20,"merged":[[0,0,0,6]]}
["贵州师范大学2024年公开招聘工作人员党务及思政人员2岗位总成绩"]
["序号","姓名","报考岗位","岗位代码","准考证号","总成绩","是否进入\n体检环节"]
[1,"王诗宜","党务及思政人员2",22828440104,"1152281304730",{"$f":"VLOOKUP(B3,[1]党务及思政人员2!$B:$I,8,FALSE)","v":76.08},{"$f":"VLOOKUP(B3,[1]党务及思政人员2!$B:$J,9,FALSE)","v":"是"}]
[2,"贾琪","党务及思政人员2",22828440104,"1152281301512",{"$f":"VLOOKUP(B4,[1]党务及思政人员2!$B:$I,8,FALSE)","v":74.52},{"$f":"VLOOKUP(B4,[1]党务及思政人员2!$B:$J,9,FALSE)","v":"否"}]
[3,"王锴欣","党务及思政人员2",22828440104,"1152281307208",{"$f":"VLOOKUP(B5,[1]党务及思政人员2!$B:$I,8,FALSE)","v":{"v":80.452,"d":"80.45"}},{"$f":"VLOOKUP(B5,[1]党务及思政人员2!$B:$J,9,FALSE)","v":"是"}]
[4,"李晨瑜","党务及思政人员2",22828440104,"1152281305306","面试缺考",{"$f":"VLOOKUP(B6,[1]党务及思政人员2!$B:$J,9,FALSE)","v":"否"}]
[5,"刘恒丹青","党务及思政人员2",22828440104,"1152281307612",{"$f":"VLOOKUP(B7,[1]党务及思政人员2!$B:$I,8,FALSE)","v":71.66},{"$f":"VLOOKUP(B7,[1]党务及思政人员2!$B:$J,9,FALSE)","v":"否"}]
[6,"李树瑶","党务及思政人员2",22828440104,"1152281305022",{"$f":"VLOOKUP(B8,[1]党务及思政人员2!$B:$I,8,FALSE)","v":{"v":74.468,"d":"74.47"}},{"$f":"VLOOKUP(B8,[1]党务及思政人员2!$B:$J,9,FALSE)","v":"否"}]
[7,"张加欣","党务及思政人员2",22828440104,"1152281300518",{"$f":"VLOOKUP(B9,[1]党务及思政人员2!$B:$I,8,FALSE)","v":{"v":75.828,"d":"75.83"}},{"$f":"VLOOKUP(B9,[1]党务及思政人员2!$B:$J,9,FALSE)","v":"是"}]
[8,"张爱琳","党务及思政人员2",22828440104,"1152281307412",{"$f":"VLOOKUP(B10,[1]党务及思政人员2!$B:$I,8,FALSE)","v":{"v":74.888,"d":"74.89"}},{"$f":"VLOOKUP(B10,[1]党务及思政人员2!$B:$J,9,FALSE)","v":"否"}]
[9,"张佳蓉","党务及思政人员2",22828440104,"1152281301613",{"$f":"VLOOKUP(B11,[1]党务及思政人员2!$B:$I,8,FALSE)","v":{"v":74.7,"d":"74.70"}},{"$f":"VLOOKUP(B11,[1]党务及思政人员2!$B:$J,9,FALSE)","v":"否"}]
[10,"李静","党务及思政人员2",22828440104,"1152281303721","面试缺考",{"$f":"VLOOKUP(B12,[1]党务及思政人员2!$B:$J,9,FALSE)","v":"否"}]
[11,"彭明丽","党务及思政人员2",22828440104,"1152281301221",{"$f":"VLOOKUP(B13,[1]党务及思政人员2!$B:$I,8,FALSE)","v":77.54},{"$f":"VLOOKUP(B13,[1]党务及思政人员2!$B:$J,9,FALSE)","v":"是"}]
[12,"孙月池","党务及思政人员2",22828440104,"1152281300102",{"$f":"VLOOKUP(B14,[1]党务及思政人员2!$B:$I,8,FALSE)","v":73.32},{"$f":"VLOOKUP(B14,[1]党务及思政人员2!$B:$J,9,FALSE)","v":"否"}]
[13,"任雨欣","党务及思政人员2",22828440104,"1152281304528",{"$f":"VLOOKUP(B15,[1]党务及思政人员2!$B:$I,8,FALSE)","v":{"v":77.844,"d":"77.84"}},{"$f":"VLOOKUP(B15,[1]党务及思政人员2!$B:$J,9,FALSE)","v":"是"}]
[14,"殷兰","党务及思政人员2",22828440104,"1152281302210",{"$f":"VLOOKUP(B16,[1]党务及思政人员2!$B:$I,8,FALSE)","v":69.08},{"$f":"VLOOKUP(B16,[1]党务及思政人员2!$B:$J,9,FALSE)","v":"否"}]
[15,"丁家铭","党务及思政人员2",22828440104,"1152281301527",{"$f":"VLOOKUP(B17,[1]党务及思政人员2!$B:$I,8,FALSE)","v":{"v":76.628,"d":"76.63"}},{"$f":"VLOOKUP(B17,[1]党务及思政人员2!$B:$J,9,FALSE)","v":"是"}]
[16,"周雅燚","党务及思政人员2",22828440104,"1152281305718",{"$f":"VLOOKUP(B18,[1]党务及思政人员2!$B:$I,8,FALSE)","v":{"v":71.692,"d":"71.69"}},{"$f":"VLOOKUP(B18,[1]党务及思政人员2!$B:$J,9,FALSE)","v":"否"}]
[17,"吴春丽","党务及思政人员2",22828440104,"1152281300825",{"$f":"VLOOKUP(B19,[1]党务及思政人员2!$B:$I,8,FALSE)","v":{"v":69.168,"d":"69.17"}},{"$f":"VLOOKUP(B19,[1]党务及思政人员2!$B:$J,9,FALSE)","v":"否"}]
[18,"平叶帆","党务及思政人员2",22828440104,"1152281309002",{"$f":"VLOOKUP(B20,[1]党务及思政人员2!$B:$I,8,FALSE)","v":74.02},{"$f":"VLOOKUP(B20,[1]党务及思政人员2!$B:$J,9,FALSE)","v":"否"}]